BEGIN:VCALENDAR
VERSION:2.0
PRODID:-//Wedding &amp; Party Band Northamptonshire | Fully Live - ECPv6.15.20//NONSGML v1.0//EN
CALSCALE:GREGORIAN
METHOD:PUBLISH
X-WR-CALNAME:Wedding &amp; Party Band Northamptonshire | Fully Live
X-ORIGINAL-URL:https://puregenius.co.uk
X-WR-CALDESC:Events for Wedding &amp; Party Band Northamptonshire | Fully Live
REFRESH-INTERVAL;VALUE=DURATION:PT1H
X-Robots-Tag:noindex
X-PUBLISHED-TTL:PT1H
BEGIN:VTIMEZONE
TZID:Europe/London
BEGIN:DAYLIGHT
TZOFFSETFROM:+0000
TZOFFSETTO:+0100
TZNAME:BST
DTSTART:20250330T010000
END:DAYLIGHT
BEGIN:STANDARD
TZOFFSETFROM:+0100
TZOFFSETTO:+0000
TZNAME:GMT
DTSTART:20251026T010000
END:STANDARD
BEGIN:DAYLIGHT
TZOFFSETFROM:+0000
TZOFFSETTO:+0100
TZNAME:BST
DTSTART:20260329T010000
END:DAYLIGHT
BEGIN:STANDARD
TZOFFSETFROM:+0100
TZOFFSETTO:+0000
TZNAME:GMT
DTSTART:20261025T010000
END:STANDARD
BEGIN:DAYLIGHT
TZOFFSETFROM:+0000
TZOFFSETTO:+0100
TZNAME:BST
DTSTART:20270328T010000
END:DAYLIGHT
BEGIN:STANDARD
TZOFFSETFROM:+0100
TZOFFSETTO:+0000
TZNAME:GMT
DTSTART:20271031T010000
END:STANDARD
END:VTIMEZONE
BEGIN:VEVENT
DTSTART;TZID=Europe/London:20260508T210000
DTEND;TZID=Europe/London:20260508T233000
DTSTAMP:20260424T164034
CREATED:20260318T124208Z
LAST-MODIFIED:20260318T124208Z
UID:4751-1778274000-1778283000@puregenius.co.uk
SUMMARY:Pure Genius live at The Windmill\, Northampton
DESCRIPTION:
URL:https://puregenius.co.uk/event/pure-genius-live-at-the-windmill-northampton/
LOCATION:The Windmill\, 272 Welford Rd\,\, Kingsthorpe\, Northamptonshire\, NN2 8PN\, United Kingdom
CATEGORIES:Free entry
END:VEVENT
END:VCALENDAR