BEGIN:VCALENDAR
VERSION:2.0
PRODID:-//Wedding &amp; Party Band Northamptonshire | Fully Live - ECPv6.15.20//NONSGML v1.0//EN
CALSCALE:GREGORIAN
METHOD:PUBLISH
X-WR-CALNAME:Wedding &amp; Party Band Northamptonshire | Fully Live
X-ORIGINAL-URL:https://puregenius.co.uk
X-WR-CALDESC:Events for Wedding &amp; Party Band Northamptonshire | Fully Live
REFRESH-INTERVAL;VALUE=DURATION:PT1H
X-Robots-Tag:noindex
X-PUBLISHED-TTL:PT1H
BEGIN:VTIMEZONE
TZID:Europe/London
BEGIN:DAYLIGHT
TZOFFSETFROM:+0000
TZOFFSETTO:+0100
TZNAME:BST
DTSTART:20250330T010000
END:DAYLIGHT
BEGIN:STANDARD
TZOFFSETFROM:+0100
TZOFFSETTO:+0000
TZNAME:GMT
DTSTART:20251026T010000
END:STANDARD
BEGIN:DAYLIGHT
TZOFFSETFROM:+0000
TZOFFSETTO:+0100
TZNAME:BST
DTSTART:20260329T010000
END:DAYLIGHT
BEGIN:STANDARD
TZOFFSETFROM:+0100
TZOFFSETTO:+0000
TZNAME:GMT
DTSTART:20261025T010000
END:STANDARD
BEGIN:DAYLIGHT
TZOFFSETFROM:+0000
TZOFFSETTO:+0100
TZNAME:BST
DTSTART:20270328T010000
END:DAYLIGHT
BEGIN:STANDARD
TZOFFSETFROM:+0100
TZOFFSETTO:+0000
TZNAME:GMT
DTSTART:20271031T010000
END:STANDARD
END:VTIMEZONE
BEGIN:VEVENT
DTSTART;TZID=Europe/London:20260613T153000
DTEND;TZID=Europe/London:20260613T170000
DTSTAMP:20260424T180949
CREATED:20260216T123315Z
LAST-MODIFIED:20260216T123545Z
UID:4665-1781364600-1781370000@puregenius.co.uk
SUMMARY:Pure Genius live at Kettfest 2026\, Kettering
DESCRIPTION:Come and join Pure Genius for Kettfest 2026. \nWith entertainment on from 10am – 10pm\, it promises to be a brilliant day of music\, dance\, theatre & comedy! There will be 5 different stages set up across Kettering town centre. \nPure Genius will be performing on the main stage from 3.45pm – 4.45pm. \n  \n 
URL:https://puregenius.co.uk/event/pure-genius-live-at-kettfest-2026-kettering/
LOCATION:Kettering Town Centre\, Kettering Market Place\, Kettering\, Northamptonshire\, NN16 0AJ
CATEGORIES:Free entry
END:VEVENT
BEGIN:VEVENT
DTSTART;TZID=Europe/London:20260613T180000
DTEND;TZID=Europe/London:20260613T233000
DTSTAMP:20260424T180949
CREATED:20250527T093211Z
LAST-MODIFIED:20250527T093211Z
UID:4395-1781373600-1781393400@puregenius.co.uk
SUMMARY:Private Function
DESCRIPTION:Pure Genius have been hired for a private event
URL:https://puregenius.co.uk/event/private-function-27/
CATEGORIES:Private Function
END:VEVENT
END:VCALENDAR