BEGIN:VCALENDAR
VERSION:2.0
PRODID:-//Wedding &amp; Party Band Northamptonshire | Fully Live - ECPv6.15.20//NONSGML v1.0//EN
CALSCALE:GREGORIAN
METHOD:PUBLISH
X-WR-CALNAME:Wedding &amp; Party Band Northamptonshire | Fully Live
X-ORIGINAL-URL:https://puregenius.co.uk
X-WR-CALDESC:Events for Wedding &amp; Party Band Northamptonshire | Fully Live
REFRESH-INTERVAL;VALUE=DURATION:PT1H
X-Robots-Tag:noindex
X-PUBLISHED-TTL:PT1H
BEGIN:VTIMEZONE
TZID:Europe/London
BEGIN:DAYLIGHT
TZOFFSETFROM:+0000
TZOFFSETTO:+0100
TZNAME:BST
DTSTART:20250330T010000
END:DAYLIGHT
BEGIN:STANDARD
TZOFFSETFROM:+0100
TZOFFSETTO:+0000
TZNAME:GMT
DTSTART:20251026T010000
END:STANDARD
BEGIN:DAYLIGHT
TZOFFSETFROM:+0000
TZOFFSETTO:+0100
TZNAME:BST
DTSTART:20260329T010000
END:DAYLIGHT
BEGIN:STANDARD
TZOFFSETFROM:+0100
TZOFFSETTO:+0000
TZNAME:GMT
DTSTART:20261025T010000
END:STANDARD
BEGIN:DAYLIGHT
TZOFFSETFROM:+0000
TZOFFSETTO:+0100
TZNAME:BST
DTSTART:20270328T010000
END:DAYLIGHT
BEGIN:STANDARD
TZOFFSETFROM:+0100
TZOFFSETTO:+0000
TZNAME:GMT
DTSTART:20271031T010000
END:STANDARD
END:VTIMEZONE
BEGIN:VEVENT
DTSTART;TZID=Europe/London:20260620T140000
DTEND;TZID=Europe/London:20260620T160000
DTSTAMP:20260424T180848
CREATED:20260328T131218Z
LAST-MODIFIED:20260328T131218Z
UID:4760-1781964000-1781971200@puregenius.co.uk
SUMMARY:Pure Genius live at Collingtree Pavilion\, Family Fun Day
DESCRIPTION:Pure Genius will be playing from 2 – 4pm.
URL:https://puregenius.co.uk/event/pure-genius-live-at-collingtree-pavilion-family-fun-day/
LOCATION:Collingtree Pavilion / Playing Fields\, Watering Lane\, Collingtree\, Northamptonshire\, NN4 0NJ\, United Kingdom
CATEGORIES:Free entry
END:VEVENT
BEGIN:VEVENT
DTSTART;TZID=Europe/London:20260620T180000
DTEND;TZID=Europe/London:20260620T233000
DTSTAMP:20260424T180848
CREATED:20241205T122334Z
LAST-MODIFIED:20241205T122334Z
UID:4234-1781978400-1781998200@puregenius.co.uk
SUMMARY:Private Function
DESCRIPTION:Pure Genius have been hired for a private event
URL:https://puregenius.co.uk/event/private-function-31/
CATEGORIES:Private Function
END:VEVENT
END:VCALENDAR