BEGIN:VCALENDAR
VERSION:2.0
PRODID:-//Wedding &amp; Party Band Northamptonshire | Fully Live - ECPv6.15.20//NONSGML v1.0//EN
CALSCALE:GREGORIAN
METHOD:PUBLISH
X-ORIGINAL-URL:https://puregenius.co.uk
X-WR-CALDESC:Events for Wedding &amp; Party Band Northamptonshire | Fully Live
REFRESH-INTERVAL;VALUE=DURATION:PT1H
X-Robots-Tag:noindex
X-PUBLISHED-TTL:PT1H
BEGIN:VTIMEZONE
TZID:Europe/London
BEGIN:DAYLIGHT
TZOFFSETFROM:+0000
TZOFFSETTO:+0100
TZNAME:BST
DTSTART:20250330T010000
END:DAYLIGHT
BEGIN:STANDARD
TZOFFSETFROM:+0100
TZOFFSETTO:+0000
TZNAME:GMT
DTSTART:20251026T010000
END:STANDARD
BEGIN:DAYLIGHT
TZOFFSETFROM:+0000
TZOFFSETTO:+0100
TZNAME:BST
DTSTART:20260329T010000
END:DAYLIGHT
BEGIN:STANDARD
TZOFFSETFROM:+0100
TZOFFSETTO:+0000
TZNAME:GMT
DTSTART:20261025T010000
END:STANDARD
BEGIN:DAYLIGHT
TZOFFSETFROM:+0000
TZOFFSETTO:+0100
TZNAME:BST
DTSTART:20270328T010000
END:DAYLIGHT
BEGIN:STANDARD
TZOFFSETFROM:+0100
TZOFFSETTO:+0000
TZNAME:GMT
DTSTART:20271031T010000
END:STANDARD
END:VTIMEZONE
BEGIN:VEVENT
DTSTART;TZID=Europe/London:20260704T140000
DTEND;TZID=Europe/London:20260704T150000
DTSTAMP:20260424T182052
CREATED:20260216T123919Z
LAST-MODIFIED:20260216T123919Z
UID:4669-1783173600-1783177200@puregenius.co.uk
SUMMARY:Pure Genius live at Daventry Pride in the Park\, Daventry
DESCRIPTION:All are very welcome to Daventry’s Pride Party in the Park that is back for another fun filled celebration that aims to bring everyone together. \nEvent starts at 11am but kicks off at 11.30am! So make sure get there for then! \nThis event is suitable for all ages showing support for the Daventry and surrounding areas LGBTQ+ community\, their friends and family helping to promote and celebrate equality\, diversity and inclusivity within Daventry. \nFree Festival Glitter & Circus Skills & Art Zone! + Local Stalls\, Street Food & Ice Cream Van! \nThere will also be local community support groups\, charities and organisations. QSpace will also be there to chat to on the day or chill out in their beanbag café. \nThere will also be lots of amazing local stall holders and food traders selling yummy hot food\, cakes and sweet treats on the day plus a bouncy castle (please note this is chargeable – see onsite signage) – and of course the all important ice cream van! So bring the sunshine with you! \nPure Genius will be on stage from 2pm – 3pm.
URL:https://puregenius.co.uk/event/pure-genius-live-at-daventry-pride-in-the-park-daventry/
LOCATION:New Street Park\, Daventry\, NN11 4BS
CATEGORIES:Free entry
END:VEVENT
BEGIN:VEVENT
DTSTART;TZID=Europe/London:20260704T180000
DTEND;TZID=Europe/London:20260704T233000
DTSTAMP:20260424T182052
CREATED:20241205T122401Z
LAST-MODIFIED:20241205T122401Z
UID:4236-1783188000-1783207800@puregenius.co.uk
SUMMARY:Private Function
DESCRIPTION:Pure Genius have been hired for a private event
URL:https://puregenius.co.uk/event/private-function-32/
CATEGORIES:Private Function
END:VEVENT
END:VCALENDAR