BEGIN:VCALENDAR
VERSION:2.0
PRODID:-//Wedding &amp; Party Band Northamptonshire | Fully Live - ECPv6.15.20//NONSGML v1.0//EN
CALSCALE:GREGORIAN
METHOD:PUBLISH
X-WR-CALNAME:Wedding &amp; Party Band Northamptonshire | Fully Live
X-ORIGINAL-URL:https://puregenius.co.uk
X-WR-CALDESC:Events for Wedding &amp; Party Band Northamptonshire | Fully Live
REFRESH-INTERVAL;VALUE=DURATION:PT1H
X-Robots-Tag:noindex
X-PUBLISHED-TTL:PT1H
BEGIN:VTIMEZONE
TZID:Europe/London
BEGIN:DAYLIGHT
TZOFFSETFROM:+0000
TZOFFSETTO:+0100
TZNAME:BST
DTSTART:20230326T010000
END:DAYLIGHT
BEGIN:STANDARD
TZOFFSETFROM:+0100
TZOFFSETTO:+0000
TZNAME:GMT
DTSTART:20231029T010000
END:STANDARD
BEGIN:DAYLIGHT
TZOFFSETFROM:+0000
TZOFFSETTO:+0100
TZNAME:BST
DTSTART:20240331T010000
END:DAYLIGHT
BEGIN:STANDARD
TZOFFSETFROM:+0100
TZOFFSETTO:+0000
TZNAME:GMT
DTSTART:20241027T010000
END:STANDARD
BEGIN:DAYLIGHT
TZOFFSETFROM:+0000
TZOFFSETTO:+0100
TZNAME:BST
DTSTART:20250330T010000
END:DAYLIGHT
BEGIN:STANDARD
TZOFFSETFROM:+0100
TZOFFSETTO:+0000
TZNAME:GMT
DTSTART:20251026T010000
END:STANDARD
BEGIN:DAYLIGHT
TZOFFSETFROM:+0000
TZOFFSETTO:+0100
TZNAME:BST
DTSTART:20260329T010000
END:DAYLIGHT
BEGIN:STANDARD
TZOFFSETFROM:+0100
TZOFFSETTO:+0000
TZNAME:GMT
DTSTART:20261025T010000
END:STANDARD
END:VTIMEZONE
BEGIN:VEVENT
DTSTART;TZID=Europe/London:20250830T213000
DTEND;TZID=Europe/London:20250830T230000
DTSTAMP:20260422T131042
CREATED:20250331T211707Z
LAST-MODIFIED:20250331T212451Z
UID:4323-1756589400-1756594800@puregenius.co.uk
SUMMARY:Pure Genius live at Party in the Pole (Scarecrow Festival)\, Harpole
DESCRIPTION:Live music\, kids’ entertainment\, fire breathers\, and food vendors. So bring a picnic blanket or gazebo and enjoy the night.
URL:https://puregenius.co.uk/event/pure-genius-live-at-party-in-the-pole-scarecrow-festival-harpole/
LOCATION:Harpole Playing Field\, Larkhall Lane\, Harpole\, Northants\, NN7 4DP\, United Kingdom
CATEGORIES:Ticketed event
END:VEVENT
BEGIN:VEVENT
DTSTART;TZID=Europe/London:20250830T163000
DTEND;TZID=Europe/London:20250830T173000
DTSTAMP:20260422T131042
CREATED:20250812T090714Z
LAST-MODIFIED:20250812T090714Z
UID:4453-1756571400-1756575000@puregenius.co.uk
SUMMARY:Pure Genius live at Vic Farm Fest \, Wellingborough
DESCRIPTION:A local day out\, with music\, laughter\, and a whole lot of heart. \nVic Farm Fest isn’t a massive field festival\, and that’s exactly why people love it. It’s a community day out\, hosted at Vic Farm Private Members Club in Wellingborough\, where members\, friends\, and guests come together to enjoy live music\, great food\, a relaxed atmosphere\, and a shared sense of something meaningful. \nYou’ll find family-friendly entertainment\, a well-stocked bar\, and the return of the brilliantly bonkers Kamikaze Run\, back by popular demand after its chaotic debut. Held just beside the club\, it sees brave (and slightly unhinged) adults take on a makeshift course in mini electric cars\, battling for glory\, or at least laughs. It’s ridiculous\, it’s loud\, and it’s fast becoming a festival favourite. \nAt its heart\, Vic Farm Fest is about giving back. Every year we raise funds for a local charity doing important work. In 2025\, we’re proud to support Cransley Hospice\, which provides exceptional end-of-life care for patients and families across North Northamptonshire. We’ve previously raised funds for charities like Ups ’n’ Downs and Kelly’s Heroes\, with thanks to the generosity of everyone who turns up and gets involved. \nYou don’t need to plan months ahead or spend a fortune. Just show up with your friends\, your family\, or even just yourself\, and soak up a day that’s all about community\, connection\, and good old-fashioned fun. \nNo tickets required for members\, non-members can get their tickets on the website link. \nPure Genius will be performing from 16:30 – 17:30.
URL:https://puregenius.co.uk/event/pure-genius-live-at-vic-farm-fest-wellingborough/
LOCATION:Vic Farm Private Members Club\, 36 Grafton Close\, Wellingborough\, Northamptonshire\, NN8 5WA\, United Kingdom
CATEGORIES:Ticketed event
END:VEVENT
BEGIN:VEVENT
DTSTART;TZID=Europe/London:20250712T193000
DTEND;TZID=Europe/London:20250712T210000
DTSTAMP:20260422T131042
CREATED:20241104T120039Z
LAST-MODIFIED:20241104T120118Z
UID:4182-1752348600-1752354000@puregenius.co.uk
SUMMARY:Pure Genius live at Pattishall Picnic in the Park
DESCRIPTION:PG live at Pattishall Picnic in the Park\, all day music festival at the Pattishall Parish Hall Playing Fields. Go to https://picnicinthepark.org.uk/ for tickets and more information.
URL:https://puregenius.co.uk/event/pure-genius-live-at-pattishall-picnic-in-the-park/
LOCATION:Pattishall Parish Hall Playing Fields\, School Road\, Pattishall\, NN12 8NN\, United Kingdom
CATEGORIES:Ticketed event
END:VEVENT
BEGIN:VEVENT
DTSTART;TZID=Europe/London:20250502T210000
DTEND;TZID=Europe/London:20250502T233000
DTSTAMP:20260422T131042
CREATED:20250209T114028Z
LAST-MODIFIED:20250209T114116Z
UID:4280-1746219600-1746228600@puregenius.co.uk
SUMMARY:Back to the 80s at Wicksteed Park
DESCRIPTION:Pure Genius are playing at the Back to the 80s event.
URL:https://puregenius.co.uk/event/back-to-the-80s/
LOCATION:Wicksteed Park\, Barton Road\, Kettering\, NN15 6NJ\, United Kingdom
CATEGORIES:Ticketed event
END:VEVENT
BEGIN:VEVENT
DTSTART;TZID=Europe/London:20250418T210000
DTEND;TZID=Europe/London:20250418T233000
DTSTAMP:20260422T131042
CREATED:20241120T165701Z
LAST-MODIFIED:20241120T165701Z
UID:4189-1745010000-1745019000@puregenius.co.uk
SUMMARY:Charity Event
DESCRIPTION:Pure Genius are playing at a charity event.
URL:https://puregenius.co.uk/event/charity-event/
LOCATION:Mercure Hotel\, Silver Street\, Northampton\, Northamptonshire\, NN1 2TA\, United Kingdom
CATEGORIES:Ticketed event
END:VEVENT
BEGIN:VEVENT
DTSTART;TZID=Europe/London:20241231T210000
DTEND;TZID=Europe/London:20250101T003000
DTSTAMP:20260422T131042
CREATED:20241120T171238Z
LAST-MODIFIED:20241120T200210Z
UID:4207-1735678800-1735691400@puregenius.co.uk
SUMMARY:Pure Genius live at the Vic Farm Private Members Club\, Wellingborough
DESCRIPTION:Formerly Gleneagles Social Club. \nTicketed event for members and their guests.
URL:https://puregenius.co.uk/event/pure-genius-live-at-the-vic-farm-private-members-club-wellingborough/
LOCATION:Vic Farm Private Members Club\, 36 Grafton Close\, Wellingborough\, Northamptonshire\, NN8 5WA\, United Kingdom
CATEGORIES:Ticketed event
END:VEVENT
BEGIN:VEVENT
DTSTART;TZID=Europe/London:20240914T210000
DTEND;TZID=Europe/London:20240914T230000
DTSTAMP:20260422T131042
CREATED:20240806T184209Z
LAST-MODIFIED:20240806T184209Z
UID:4056-1726347600-1726354800@puregenius.co.uk
SUMMARY:Pure Genius live at Badgerfest\, Bugbrooke
DESCRIPTION:BADGERFEST is a small beer festival that is held in September by Bugbrooke RUFC. Contact organisers for more info.
URL:https://puregenius.co.uk/event/pure-genius-live-at-badgerfest-bugbrooke/
LOCATION:Bugbrooke RUFC\, Bugbrooke\, Northants\, NN7 3RW\, United Kingdom
CATEGORIES:Ticketed event
END:VEVENT
BEGIN:VEVENT
DTSTART;TZID=Europe/London:20240913T213000
DTEND;TZID=Europe/London:20240913T230000
DTSTAMP:20260422T131042
CREATED:20240806T183805Z
LAST-MODIFIED:20240806T184324Z
UID:4054-1726263000-1726268400@puregenius.co.uk
SUMMARY:Pure Genius live at Crowfest\, Harpole
DESCRIPTION:Live music\, kids’ entertainment\, fire breathers\, and food vendors. So bring a picnic blanket or gazebo and enjoy the night.
URL:https://puregenius.co.uk/event/pure-genius-live-at-crowfest-harpole/
LOCATION:Harpole Playing Field\, Larkhall Lane\, Harpole\, Northants\, NN7 4DP\, United Kingdom
CATEGORIES:Ticketed event
END:VEVENT
BEGIN:VEVENT
DTSTART;TZID=Europe/London:20240907T193000
DTEND;TZID=Europe/London:20240907T210000
DTSTAMP:20260422T131042
CREATED:20240806T183051Z
LAST-MODIFIED:20240806T183823Z
UID:4051-1725737400-1725742800@puregenius.co.uk
SUMMARY:Pure Genius live at Millfest\, Bromham
DESCRIPTION:PG live at Millfest\, all day music festival at the Mill Coffeshop. Contact venue for more info.
URL:https://puregenius.co.uk/event/pure-genius-live-at-millfest-bromham/
LOCATION:The Mill Coffeeshop\, Bridge End\, Bromham\, MK43 8LP\, United Kingdom
CATEGORIES:Ticketed event
END:VEVENT
BEGIN:VEVENT
DTSTART;TZID=Europe/London:20240823T200000
DTEND;TZID=Europe/London:20240823T233000
DTSTAMP:20260422T131042
CREATED:20240805T063121Z
LAST-MODIFIED:20240805T065523Z
UID:4033-1724443200-1724455800@puregenius.co.uk
SUMMARY:Summerfest at the Picturedrome
DESCRIPTION:Get ready to experience the Ultimate Summer Party like never before! The ‘Drome’ presents an unforgettable line-up featuring 3 of the regions most sensational live acts. \nWATERLOO – Get ready to dance the night away to the irresistible sounds of ABBA\, performed by the talented Dancing Queens\, Danni & Amy. \nSUPERFLY – Get your groove on with some classic funk\, soul and disco from one of Northampton’s favourites. \nPURE GENIUS – The night wouldn’t be complete without this award-winning party band\, playing timeless floor-fillers from across the decades. \nDJ IAN LOVESHACK – The Picturedromes resident DJ and creator of One More Time and Lost In Music\, will finish the night in style with popular anthem until late. \nThis night is NOT TO BE MISSED!!
URL:https://puregenius.co.uk/event/summerfest-at-the-picturedrome/
LOCATION:The Picturedrome\, 222 Kettering Road\, Northampton\, Northants\, NN1 4BN
CATEGORIES:Ticketed event
END:VEVENT
END:VCALENDAR