BEGIN:VCALENDAR
VERSION:2.0
PRODID:-//Wedding &amp; Party Band Northamptonshire | Fully Live - ECPv6.15.20//NONSGML v1.0//EN
CALSCALE:GREGORIAN
METHOD:PUBLISH
X-ORIGINAL-URL:https://puregenius.co.uk
X-WR-CALDESC:Events for Wedding &amp; Party Band Northamptonshire | Fully Live
REFRESH-INTERVAL;VALUE=DURATION:PT1H
X-Robots-Tag:noindex
X-PUBLISHED-TTL:PT1H
BEGIN:VTIMEZONE
TZID:Europe/London
BEGIN:DAYLIGHT
TZOFFSETFROM:+0000
TZOFFSETTO:+0100
TZNAME:BST
DTSTART:20250330T010000
END:DAYLIGHT
BEGIN:STANDARD
TZOFFSETFROM:+0100
TZOFFSETTO:+0000
TZNAME:GMT
DTSTART:20251026T010000
END:STANDARD
BEGIN:DAYLIGHT
TZOFFSETFROM:+0000
TZOFFSETTO:+0100
TZNAME:BST
DTSTART:20260329T010000
END:DAYLIGHT
BEGIN:STANDARD
TZOFFSETFROM:+0100
TZOFFSETTO:+0000
TZNAME:GMT
DTSTART:20261025T010000
END:STANDARD
BEGIN:DAYLIGHT
TZOFFSETFROM:+0000
TZOFFSETTO:+0100
TZNAME:BST
DTSTART:20270328T010000
END:DAYLIGHT
BEGIN:STANDARD
TZOFFSETFROM:+0100
TZOFFSETTO:+0000
TZNAME:GMT
DTSTART:20271031T010000
END:STANDARD
END:VTIMEZONE
BEGIN:VEVENT
DTSTART;TZID=Europe/London:20260501T210000
DTEND;TZID=Europe/London:20260501T233000
DTSTAMP:20260424T145240
CREATED:20260127T161244Z
LAST-MODIFIED:20260330T091626Z
UID:4614-1777669200-1777678200@puregenius.co.uk
SUMMARY:Pure Genius live at The Crown & Cushion\, Northampton
DESCRIPTION:
URL:https://puregenius.co.uk/event/pure-genius-live-at-the-crown-cushion-northampton/
LOCATION:The Crown & Cushion\, 276 Wellingborough Rd\, Northampton\, NN1 4EJ\, United Kingdom
CATEGORIES:Free entry
END:VEVENT
BEGIN:VEVENT
DTSTART;TZID=Europe/London:20260502T180000
DTEND;TZID=Europe/London:20260502T233000
DTSTAMP:20260424T145240
CREATED:20241016T085927Z
LAST-MODIFIED:20241016T085927Z
UID:4179-1777744800-1777764600@puregenius.co.uk
SUMMARY:Private Function
DESCRIPTION:Pure Genius have been hired for a private event
URL:https://puregenius.co.uk/event/private-function-25/
CATEGORIES:Private Function
END:VEVENT
BEGIN:VEVENT
DTSTART;TZID=Europe/London:20260508T210000
DTEND;TZID=Europe/London:20260508T233000
DTSTAMP:20260424T145240
CREATED:20260318T124208Z
LAST-MODIFIED:20260318T124208Z
UID:4751-1778274000-1778283000@puregenius.co.uk
SUMMARY:Pure Genius live at The Windmill\, Northampton
DESCRIPTION:
URL:https://puregenius.co.uk/event/pure-genius-live-at-the-windmill-northampton/
LOCATION:The Windmill\, 272 Welford Rd\,\, Kingsthorpe\, Northamptonshire\, NN2 8PN\, United Kingdom
CATEGORIES:Free entry
END:VEVENT
BEGIN:VEVENT
DTSTART;TZID=Europe/London:20260509T210000
DTEND;TZID=Europe/London:20260509T233000
DTSTAMP:20260424T145240
CREATED:20251020T174751Z
LAST-MODIFIED:20251020T174751Z
UID:4510-1778360400-1778369400@puregenius.co.uk
SUMMARY:Pure Genius live at The Crown & Anchor\, Northampton
DESCRIPTION:
URL:https://puregenius.co.uk/event/pure-genius-live-at-the-crown-anchor-northampton/
LOCATION:The Crown & Anchor\, 6 Victoria Road\, Northampton\, NN1 5ED\, United Kingdom
CATEGORIES:Free entry
END:VEVENT
BEGIN:VEVENT
DTSTART;TZID=Europe/London:20260515T180000
DTEND;TZID=Europe/London:20260515T233000
DTSTAMP:20260424T145240
CREATED:20260420T165608Z
LAST-MODIFIED:20260420T165608Z
UID:4783-1778868000-1778887800@puregenius.co.uk
SUMMARY:Private Function
DESCRIPTION:Pure Genius have been hired for a private event
URL:https://puregenius.co.uk/event/private-function-106/
CATEGORIES:Private Function
END:VEVENT
BEGIN:VEVENT
DTSTART;TZID=Europe/London:20260516T180000
DTEND;TZID=Europe/London:20260516T233000
DTSTAMP:20260424T145240
CREATED:20250527T092319Z
LAST-MODIFIED:20250527T092319Z
UID:4388-1778954400-1778974200@puregenius.co.uk
SUMMARY:Private Function
DESCRIPTION:Pure Genius have been hired for a private event
URL:https://puregenius.co.uk/event/private-function-58/
CATEGORIES:Private Function
END:VEVENT
BEGIN:VEVENT
DTSTART;VALUE=DATE:20260522
DTEND;VALUE=DATE:20260523
DTSTAMP:20260424T145240
CREATED:20260129T140918Z
LAST-MODIFIED:20260129T140918Z
UID:4643-1779408000-1779494399@puregenius.co.uk
SUMMARY:Pure Genius live at the FIA/FIM Main Event\, Santa Pod Raceway
DESCRIPTION:It’s Round 1 of the FIA/FIM European Championships. That means hundreds of race teams\, some of the fastest cars and bikes in Europe\, and enough horsepower to make the ground shake. We’re talking 11\,000bhp Top Fuel Dragsters going from 0–100mph in less than a second. Racing doesn’t get more serious than this\, or bigger in scale. \nAnd it’s not just the racing that makes it special. There’s a full weekend of entertainment for all ages: jet cars\, monster trucks\, stunts\, music\, food\, and family fun. This is the ultimate family day out\, or the ultimate way to keep the kids quiet while you enjoy a bit of fierce competition. \nPure Genius performance times TBC \nTickets available here: https://santapodtickets.com/p/mainevent
URL:https://puregenius.co.uk/event/pure-genius-live-at-the-fia-fim-main-event-santa-pod-raceway/
LOCATION:Santa Pod Raceway\, Airfield Road\, Podington\, NN29 7XA\, United Kingdom
CATEGORIES:Ticketed event
END:VEVENT
BEGIN:VEVENT
DTSTART;TZID=Europe/London:20260523T160000
DTEND;TZID=Europe/London:20260523T180000
DTSTAMP:20260424T145240
CREATED:20251113T125307Z
LAST-MODIFIED:20251113T125318Z
UID:4533-1779552000-1779559200@puregenius.co.uk
SUMMARY:Pure Genius live at The Crossroads\, Weedon
DESCRIPTION:Join us for a music festival at The Crossroads – it’s going to be mega! \nWe’ll be on from 16.00 – 18.00 – other acts to be confirmed.
URL:https://puregenius.co.uk/event/pure-genius-live-at-the-crossroads-weedon-2/
LOCATION:The Crossroads\, High St\, Weedon Bec\,\, Northampton\, NN7 4PX
CATEGORIES:Free entry
END:VEVENT
BEGIN:VEVENT
DTSTART;TZID=Europe/London:20260523T203000
DTEND;TZID=Europe/London:20260523T233000
DTSTAMP:20260424T145240
CREATED:20260120T113730Z
LAST-MODIFIED:20260120T113730Z
UID:4589-1779568200-1779579000@puregenius.co.uk
SUMMARY:Pure Genius live at The Olde Cobbler\, Northampton
DESCRIPTION:
URL:https://puregenius.co.uk/event/pure-genius-live-at-the-olde-cobbler-northampton/
LOCATION:The Olde Cobbler\, Acre Lane\, Northampton\, NN2 8BN
CATEGORIES:Free entry
END:VEVENT
BEGIN:VEVENT
DTSTART;TZID=Europe/London:20260524T120000
DTEND;TZID=Europe/London:20260524T163000
DTSTAMP:20260424T145240
CREATED:20250331T212220Z
LAST-MODIFIED:20260211T223242Z
UID:4325-1779624000-1779640200@puregenius.co.uk
SUMMARY:Pure Genius ft. Hollie Marie - live at Rockin' Roadrunner Festival\, Abington Park
DESCRIPTION:Just turn up\, it’s free! \nPure Genius will be playing from 12.00-12.30 to open the event and then again from 15.30-16.15. See you there!
URL:https://puregenius.co.uk/event/pure-genius-live-at-rockin-roadrunner-festival-abington-park/
LOCATION:Abington Park\, Northampton\, NN3 3HN\, United Kingdom
CATEGORIES:Free entry
END:VEVENT
BEGIN:VEVENT
DTSTART;TZID=Europe/London:20260529T210000
DTEND;TZID=Europe/London:20260529T233000
DTSTAMP:20260424T145240
CREATED:20260418T111624Z
LAST-MODIFIED:20260418T111747Z
UID:4774-1780088400-1780097400@puregenius.co.uk
SUMMARY:Pure Genius live at The Gardeners Arms\, Northampton
DESCRIPTION:
URL:https://puregenius.co.uk/event/pure-genius-live-at-the-gardeners-arms-northampton/
LOCATION:The Gardeners Arms\, Wellingborough Road\, Northampton\, NN1 4EB
CATEGORIES:Free entry
END:VEVENT
BEGIN:VEVENT
DTSTART;TZID=Europe/London:20260530T180000
DTEND;TZID=Europe/London:20260530T233000
DTSTAMP:20260424T145240
CREATED:20250212T100650Z
LAST-MODIFIED:20250212T100650Z
UID:4301-1780164000-1780183800@puregenius.co.uk
SUMMARY:Private Function
DESCRIPTION:Pure Genius have been hired for a private event
URL:https://puregenius.co.uk/event/private-function-47/
CATEGORIES:Private Function
END:VEVENT
END:VCALENDAR