BEGIN:VCALENDAR
VERSION:2.0
PRODID:-//Wedding &amp; Party Band Northamptonshire | Fully Live - ECPv6.15.20//NONSGML v1.0//EN
CALSCALE:GREGORIAN
METHOD:PUBLISH
X-ORIGINAL-URL:https://puregenius.co.uk
X-WR-CALDESC:Events for Wedding &amp; Party Band Northamptonshire | Fully Live
REFRESH-INTERVAL;VALUE=DURATION:PT1H
X-Robots-Tag:noindex
X-PUBLISHED-TTL:PT1H
BEGIN:VTIMEZONE
TZID:Europe/London
BEGIN:DAYLIGHT
TZOFFSETFROM:+0000
TZOFFSETTO:+0100
TZNAME:BST
DTSTART:20250330T010000
END:DAYLIGHT
BEGIN:STANDARD
TZOFFSETFROM:+0100
TZOFFSETTO:+0000
TZNAME:GMT
DTSTART:20251026T010000
END:STANDARD
BEGIN:DAYLIGHT
TZOFFSETFROM:+0000
TZOFFSETTO:+0100
TZNAME:BST
DTSTART:20260329T010000
END:DAYLIGHT
BEGIN:STANDARD
TZOFFSETFROM:+0100
TZOFFSETTO:+0000
TZNAME:GMT
DTSTART:20261025T010000
END:STANDARD
BEGIN:DAYLIGHT
TZOFFSETFROM:+0000
TZOFFSETTO:+0100
TZNAME:BST
DTSTART:20270328T010000
END:DAYLIGHT
BEGIN:STANDARD
TZOFFSETFROM:+0100
TZOFFSETTO:+0000
TZNAME:GMT
DTSTART:20271031T010000
END:STANDARD
END:VTIMEZONE
BEGIN:VEVENT
DTSTART;TZID=Europe/London:20260605T180000
DTEND;TZID=Europe/London:20260605T233000
DTSTAMP:20260424T164227
CREATED:20250626T171149Z
LAST-MODIFIED:20250626T171149Z
UID:4418-1780682400-1780702200@puregenius.co.uk
SUMMARY:Private Function
DESCRIPTION:Pure Genius have been hired for a private event
URL:https://puregenius.co.uk/event/private-function-61/
CATEGORIES:Private Function
END:VEVENT
BEGIN:VEVENT
DTSTART;TZID=Europe/London:20260606T210000
DTEND;TZID=Europe/London:20260606T233000
DTSTAMP:20260424T164227
CREATED:20260127T161549Z
LAST-MODIFIED:20260127T161549Z
UID:4616-1780779600-1780788600@puregenius.co.uk
SUMMARY:Back to the 80s at Wicksteed Park
DESCRIPTION:Pure Genius are playing at the Back to the 80s event.
URL:https://puregenius.co.uk/event/back-to-the-80s-at-wicksteed-park/
LOCATION:Wicksteed Park\, Barton Road\, Kettering\, NN15 6NJ\, United Kingdom
CATEGORIES:Ticketed event
END:VEVENT
BEGIN:VEVENT
DTSTART;TZID=Europe/London:20260611T180000
DTEND;TZID=Europe/London:20260611T233000
DTSTAMP:20260424T164227
CREATED:20260219T130012Z
LAST-MODIFIED:20260219T130012Z
UID:4672-1781200800-1781220600@puregenius.co.uk
SUMMARY:Private Function
DESCRIPTION:Pure Genius have been hired for a private event
URL:https://puregenius.co.uk/event/private-function-99/
CATEGORIES:Private Function
END:VEVENT
BEGIN:VEVENT
DTSTART;TZID=Europe/London:20260613T153000
DTEND;TZID=Europe/London:20260613T170000
DTSTAMP:20260424T164227
CREATED:20260216T123315Z
LAST-MODIFIED:20260216T123545Z
UID:4665-1781364600-1781370000@puregenius.co.uk
SUMMARY:Pure Genius live at Kettfest 2026\, Kettering
DESCRIPTION:Come and join Pure Genius for Kettfest 2026. \nWith entertainment on from 10am – 10pm\, it promises to be a brilliant day of music\, dance\, theatre & comedy! There will be 5 different stages set up across Kettering town centre. \nPure Genius will be performing on the main stage from 3.45pm – 4.45pm. \n  \n 
URL:https://puregenius.co.uk/event/pure-genius-live-at-kettfest-2026-kettering/
LOCATION:Kettering Town Centre\, Kettering Market Place\, Kettering\, Northamptonshire\, NN16 0AJ
CATEGORIES:Free entry
END:VEVENT
BEGIN:VEVENT
DTSTART;TZID=Europe/London:20260613T180000
DTEND;TZID=Europe/London:20260613T233000
DTSTAMP:20260424T164227
CREATED:20250527T093211Z
LAST-MODIFIED:20250527T093211Z
UID:4395-1781373600-1781393400@puregenius.co.uk
SUMMARY:Private Function
DESCRIPTION:Pure Genius have been hired for a private event
URL:https://puregenius.co.uk/event/private-function-27/
CATEGORIES:Private Function
END:VEVENT
BEGIN:VEVENT
DTSTART;TZID=Europe/London:20260619T180000
DTEND;TZID=Europe/London:20260619T233000
DTSTAMP:20260424T164227
CREATED:20260318T123738Z
LAST-MODIFIED:20260318T123738Z
UID:4747-1781892000-1781911800@puregenius.co.uk
SUMMARY:Private Function
DESCRIPTION:Pure Genius have been hired for a private event
URL:https://puregenius.co.uk/event/private-function-104/
CATEGORIES:Private Function
END:VEVENT
BEGIN:VEVENT
DTSTART;TZID=Europe/London:20260620T140000
DTEND;TZID=Europe/London:20260620T160000
DTSTAMP:20260424T164227
CREATED:20260328T131218Z
LAST-MODIFIED:20260328T131218Z
UID:4760-1781964000-1781971200@puregenius.co.uk
SUMMARY:Pure Genius live at Collingtree Pavilion\, Family Fun Day
DESCRIPTION:Pure Genius will be playing from 2 – 4pm.
URL:https://puregenius.co.uk/event/pure-genius-live-at-collingtree-pavilion-family-fun-day/
LOCATION:Collingtree Pavilion / Playing Fields\, Watering Lane\, Collingtree\, Northamptonshire\, NN4 0NJ\, United Kingdom
CATEGORIES:Free entry
END:VEVENT
BEGIN:VEVENT
DTSTART;TZID=Europe/London:20260620T180000
DTEND;TZID=Europe/London:20260620T233000
DTSTAMP:20260424T164227
CREATED:20241205T122334Z
LAST-MODIFIED:20241205T122334Z
UID:4234-1781978400-1781998200@puregenius.co.uk
SUMMARY:Private Function
DESCRIPTION:Pure Genius have been hired for a private event
URL:https://puregenius.co.uk/event/private-function-31/
CATEGORIES:Private Function
END:VEVENT
BEGIN:VEVENT
DTSTART;TZID=Europe/London:20260626T210000
DTEND;TZID=Europe/London:20260626T233000
DTSTAMP:20260424T164227
CREATED:20250908T101558Z
LAST-MODIFIED:20250908T101558Z
UID:4472-1782507600-1782516600@puregenius.co.uk
SUMMARY:Pure Genius live at The Mailcoach\, Northampton
DESCRIPTION:
URL:https://puregenius.co.uk/event/pure-genius-live-at-the-mailcoach-northampton-4/
LOCATION:The Mailcoach\, 8 Derngate\, Northampton\, NN1 1UB\, United Kingdom
CATEGORIES:Free entry
END:VEVENT
BEGIN:VEVENT
DTSTART;TZID=Europe/London:20260627T180000
DTEND;TZID=Europe/London:20260627T233000
DTSTAMP:20260424T164227
CREATED:20250331T211323Z
LAST-MODIFIED:20250331T211323Z
UID:4319-1782583200-1782603000@puregenius.co.uk
SUMMARY:Private Function
DESCRIPTION:Pure Genius have been hired for a private event
URL:https://puregenius.co.uk/event/private-function-50/
CATEGORIES:Private Function
END:VEVENT
END:VCALENDAR